BEGIN:VCALENDAR
VERSION:2.0
PRODID:-//Kunkel Garten Otzberg - ECPv6.15.18//NONSGML v1.0//EN
CALSCALE:GREGORIAN
METHOD:PUBLISH
X-WR-CALNAME:Kunkel Garten Otzberg
X-ORIGINAL-URL:https://kunkel-garten.de
X-WR-CALDESC:Veranstaltungen für Kunkel Garten Otzberg
REFRESH-INTERVAL;VALUE=DURATION:PT1H
X-Robots-Tag:noindex
X-PUBLISHED-TTL:PT1H
BEGIN:VTIMEZONE
TZID:Europe/Berlin
BEGIN:DAYLIGHT
TZOFFSETFROM:+0100
TZOFFSETTO:+0200
TZNAME:CEST
DTSTART:20210328T010000
END:DAYLIGHT
BEGIN:STANDARD
TZOFFSETFROM:+0200
TZOFFSETTO:+0100
TZNAME:CET
DTSTART:20211031T010000
END:STANDARD
BEGIN:DAYLIGHT
TZOFFSETFROM:+0100
TZOFFSETTO:+0200
TZNAME:CEST
DTSTART:20220327T010000
END:DAYLIGHT
BEGIN:STANDARD
TZOFFSETFROM:+0200
TZOFFSETTO:+0100
TZNAME:CET
DTSTART:20221030T010000
END:STANDARD
BEGIN:DAYLIGHT
TZOFFSETFROM:+0100
TZOFFSETTO:+0200
TZNAME:CEST
DTSTART:20230326T010000
END:DAYLIGHT
BEGIN:STANDARD
TZOFFSETFROM:+0200
TZOFFSETTO:+0100
TZNAME:CET
DTSTART:20231029T010000
END:STANDARD
END:VTIMEZONE
BEGIN:VEVENT
DTSTART;VALUE=DATE:20220616
DTEND;VALUE=DATE:20220620
DTSTAMP:20260424T223945
CREATED:20211102T105102Z
LAST-MODIFIED:20220608T085511Z
UID:3835-1655337600-1655683199@kunkel-garten.de
SUMMARY:14. Odenwald Country Fair
DESCRIPTION:Nach den Absagen der Odenwald Country Fair 2020 und 2021 findet dieses Gartenevent im Jahr 2022 wieder statt. \nDie „Odenwald Country Fair“ präsentiert mit exklusiven Ausstellern im Eulbacher Park\, Nähe Erbach/Michelstadt \n \n„Schönes\, Stilvolles\, Nützliches\, Antikes\, Wertvolles\, Blühendes\, Kurioses und Zweckmäßiges für Garten\, Park\, Haus und Hof sowie für das ganz persönliche Wohlbefinden“ \nGartenträume „Odenwald Country Fair“ vom 16.06. bis 19.06.2022 \nDas TEAM GÄRTEN VON KUNKEL ist dabei ! \nBei uns erhalten Sie Tipps zur Gartengestaltung\, Accessoires „mit und aus“ Ginkgo und viele weitere Anregungen. Auf dem Gelände finden Sie uns am Stand 140 – wir freuen uns auf Sie!
URL:https://kunkel-garten.de/veranstaltung/14-odenwald-country-fair/
LOCATION:Eulbacher Park\, Englischer Garten\, Michelstadt\, 64720
END:VEVENT
END:VCALENDAR